BEGIN:VCALENDAR
VERSION:2.0
PRODID:-//Krav360 - ECPv6.15.20//NONSGML v1.0//EN
CALSCALE:GREGORIAN
METHOD:PUBLISH
X-WR-CALNAME:Krav360
X-ORIGINAL-URL:https://krav360.com
X-WR-CALDESC:Eventos para Krav360
REFRESH-INTERVAL;VALUE=DURATION:PT1H
X-Robots-Tag:noindex
X-PUBLISHED-TTL:PT1H
BEGIN:VTIMEZONE
TZID:Europe/Madrid
BEGIN:DAYLIGHT
TZOFFSETFROM:+0100
TZOFFSETTO:+0200
TZNAME:CEST
DTSTART:20250330T010000
END:DAYLIGHT
BEGIN:STANDARD
TZOFFSETFROM:+0200
TZOFFSETTO:+0100
TZNAME:CET
DTSTART:20251026T010000
END:STANDARD
BEGIN:DAYLIGHT
TZOFFSETFROM:+0100
TZOFFSETTO:+0200
TZNAME:CEST
DTSTART:20260329T010000
END:DAYLIGHT
BEGIN:STANDARD
TZOFFSETFROM:+0200
TZOFFSETTO:+0100
TZNAME:CET
DTSTART:20261025T010000
END:STANDARD
BEGIN:DAYLIGHT
TZOFFSETFROM:+0100
TZOFFSETTO:+0200
TZNAME:CEST
DTSTART:20270328T010000
END:DAYLIGHT
BEGIN:STANDARD
TZOFFSETFROM:+0200
TZOFFSETTO:+0100
TZNAME:CET
DTSTART:20271031T010000
END:STANDARD
END:VTIMEZONE
BEGIN:VEVENT
DTSTART;TZID=Europe/Madrid:20260626T090000
DTEND;TZID=Europe/Madrid:20260628T170000
DTSTAMP:20260425T015109
CREATED:20250917T162924Z
LAST-MODIFIED:20250917T163445Z
UID:10000695-1782464400-1782666000@krav360.com
SUMMARY:Summer Camp 2026
DESCRIPTION:Viernes 26 junio – sábado 27 de junio de 9 a 17 hDomingo 28 de junio de 9 a 14 h \n\n\n\n \n\n\n\nEn el krav maga camp aprenderás en 3 días (20 h) todo el programa técnico de Krav Maga. \n\n\n\nEstá pensado para personas con poco tiempo o quieren inicarse en  krav maga\, también para practicantes de cualquier sistema\, escuela o federación que quieran ampliar su formación\, y por último sirve como curso técnico para el curso de instructor. \n\n\n\nKrav Maga es un sistema simple y directo con pocas técnicas que resuelven muchas situaciones\, pero fuera de Israel la gente se empeña en convencer que se necesitan muchos años de aprendizaje. \n\n\n\nEstá pensado para todo tipo de personas. No se basa en el combate (para eso ya están las MMA)\, sino en la defensa personal realista. \n\n\n\nKrav maga por su naturaleza se aprende en poco tiempo y en cursos rápidos. \n\n\n\nLos artículos de protección indispensables son  bucal\, tibiales\, coquilla\, inguinal\, guantes\, guantillas (para gente que no sea practicante habitual\, tenemos material de cortesía). Adquiérelos en nuestra tienda online.
URL:https://krav360.com/taller/summer-camp-2026/
LOCATION:SEDE KRAV360 EIXAMPLE-GRÀCIA\, Travessera de Gracia 341\, bajos\, Barcelona\, Barcelona\, 08025\, España
CATEGORIES:Boot Camp,Intensivos
ATTACH;FMTTYPE=image/jpeg:https://krav360.com/wp-content/uploads/2025/09/summer-boot-camp-2026.jpg
END:VEVENT
BEGIN:VEVENT
DTSTART;TZID=Europe/Madrid:20260628T150000
DTEND;TZID=Europe/Madrid:20260628T170000
DTSTAMP:20260425T015109
CREATED:20250924T184646Z
LAST-MODIFIED:20250924T184651Z
UID:10000698-1782658800-1782666000@krav360.com
SUMMARY:Examen nivel avanzado G1-G5 (2026)
DESCRIPTION:En el mundo de la formación los exámenes y pruebas son muy importantes\, ya que permiten medir\, si la fase de aprendizaje tiene resultados\, si hemos podido cumplir objetivos. Todo esto se acentua mucho más en la formación en defensa personal\, donde el krav maga sigue unos principios y su único objetivo es tener resultados en una situación muy grave. \n\n\n\n\n\n\n\n\n\n\n\n\n\n\n\n\n\n\n\n\n\n\n\n\n\n\n\n\n\n\n\n\n\n\n\n\n\n\n\n \n\n\n\n\n\nLas tasas de examen tienen el siguiente valor: \n\n\n\nG1: 120€G2: 140€G3: 160€G4: 180€G5: 240€ \n\n\n\nLugar: \n\n\n\n\n\n\n\nEn el mundo de la formación los exámenes y pruebas son muy importantes\, ya que permiten medir\, si la fase de aprendizaje tiene resultados\, si hemos podido cumplir objetivos. Todo esto se acentua mucho más en la formación en defensa personal\, donde el krav maga sigue unos principios y su único objetivo es tener resultados en una situación muy grave. \n\n\n\n «Lo que no se define no se puede medir. Lo que no se mide\, no se puede mejorar. Lo que no se mejora\, se degrada siempre». \n\n\n\nWilliam Thomson Kelvin (1824 – 1907)
URL:https://krav360.com/taller/examen-nivel-avanzado-g1-g5-2026/
LOCATION:Barcelona
CATEGORIES:Convocatoria exámenes
ATTACH;FMTTYPE=image/jpeg:https://krav360.com/wp-content/uploads/2023/06/examen-g1-g5.jpg
END:VEVENT
END:VCALENDAR